BEGIN:VCALENDAR
VERSION:2.0
PRODID:-//Priority One - ECPv6.15.20//NONSGML v1.0//EN
CALSCALE:GREGORIAN
METHOD:PUBLISH
X-WR-CALNAME:Priority One
X-ORIGINAL-URL:https://www.priorityone.co.nz
X-WR-CALDESC:Events for Priority One
REFRESH-INTERVAL;VALUE=DURATION:PT1H
X-Robots-Tag:noindex
X-PUBLISHED-TTL:PT1H
BEGIN:VTIMEZONE
TZID:Pacific/Auckland
BEGIN:STANDARD
TZOFFSETFROM:+1300
TZOFFSETTO:+1200
TZNAME:NZST
DTSTART:20230401T140000
END:STANDARD
BEGIN:DAYLIGHT
TZOFFSETFROM:+1200
TZOFFSETTO:+1300
TZNAME:NZDT
DTSTART:20230923T140000
END:DAYLIGHT
BEGIN:STANDARD
TZOFFSETFROM:+1300
TZOFFSETTO:+1200
TZNAME:NZST
DTSTART:20240406T140000
END:STANDARD
BEGIN:DAYLIGHT
TZOFFSETFROM:+1200
TZOFFSETTO:+1300
TZNAME:NZDT
DTSTART:20240928T140000
END:DAYLIGHT
BEGIN:STANDARD
TZOFFSETFROM:+1300
TZOFFSETTO:+1200
TZNAME:NZST
DTSTART:20250405T140000
END:STANDARD
BEGIN:DAYLIGHT
TZOFFSETFROM:+1200
TZOFFSETTO:+1300
TZNAME:NZDT
DTSTART:20250927T140000
END:DAYLIGHT
END:VTIMEZONE
BEGIN:VTIMEZONE
TZID:Pacific/Auckland
BEGIN:STANDARD
TZOFFSETFROM:+1300
TZOFFSETTO:+1200
TZNAME:NZST
DTSTART:20200404T140000
END:STANDARD
BEGIN:DAYLIGHT
TZOFFSETFROM:+1200
TZOFFSETTO:+1300
TZNAME:NZDT
DTSTART:20200926T140000
END:DAYLIGHT
BEGIN:STANDARD
TZOFFSETFROM:+1300
TZOFFSETTO:+1200
TZNAME:NZST
DTSTART:20210403T140000
END:STANDARD
BEGIN:DAYLIGHT
TZOFFSETFROM:+1200
TZOFFSETTO:+1300
TZNAME:NZDT
DTSTART:20210925T140000
END:DAYLIGHT
BEGIN:STANDARD
TZOFFSETFROM:+1300
TZOFFSETTO:+1200
TZNAME:NZST
DTSTART:20220402T140000
END:STANDARD
BEGIN:DAYLIGHT
TZOFFSETFROM:+1200
TZOFFSETTO:+1300
TZNAME:NZDT
DTSTART:20220924T140000
END:DAYLIGHT
BEGIN:STANDARD
TZOFFSETFROM:+1300
TZOFFSETTO:+1200
TZNAME:NZST
DTSTART:20230401T140000
END:STANDARD
BEGIN:DAYLIGHT
TZOFFSETFROM:+1200
TZOFFSETTO:+1300
TZNAME:NZDT
DTSTART:20230923T140000
END:DAYLIGHT
END:VTIMEZONE
BEGIN:VEVENT
DTSTART;TZID=Pacific/Auckland:20240523T173000
DTEND;TZID=Pacific/Auckland:20240523T193000
DTSTAMP:20260425T103018
CREATED:20240519T235849Z
LAST-MODIFIED:20240519T235849Z
UID:10111-1716485400-1716492600@www.priorityone.co.nz
SUMMARY:Meet the Buyer Tauranga Moana
DESCRIPTION:Join the Amotai team on the 23rd of May to make new business connections and meet buyer organisations interested in contracting from Māori and Pasifika suppliers. \nThis event is being brought to you in partnership with Downer\, GHD and Poutama Trust and also in collaboration with the Bay of Plenty Regional Council\, Fulton Hogan\, Beca and Priority One.
URL:https://www.priorityone.co.nz/event/meet-the-buyer-tauranga-moana/
LOCATION:Mount Maunganui Lifeguard Service\, 21 Adams Ave\, Mount Maunganui\, New Zealand
CATEGORIES:1Priority One,3Ara Rau - Pathways to Work
ATTACH;FMTTYPE=image/png:https://www.priorityone.co.nz/wp-content/uploads/Screenshot-2024-05-20-115823.png
END:VEVENT
BEGIN:VEVENT
DTSTART;TZID=Pacific/Auckland:20220302T100000
DTEND;TZID=Pacific/Auckland:20220302T113000
DTSTAMP:20260425T103018
CREATED:20220225T001043Z
LAST-MODIFIED:20220225T001043Z
UID:4468-1646215200-1646220600@www.priorityone.co.nz
SUMMARY:Social Procurement Awareness Event
DESCRIPTION:
URL:https://www.priorityone.co.nz/event/social-procurement-awareness-event/
LOCATION:Bay of Plenty
CATEGORIES:3Ara Rau - Pathways to Work
ATTACH;FMTTYPE=image/webp:https://www.priorityone.co.nz/wp-content/uploads/Raranga-Weaving-the-Pieces-Together-2.webp
END:VEVENT
BEGIN:VEVENT
DTSTART;TZID=Pacific/Auckland:20211109T100000
DTEND;TZID=Pacific/Auckland:20211109T130000
DTSTAMP:20260425T103018
CREATED:20211007T195729Z
LAST-MODIFIED:20211101T193821Z
UID:3409-1636452000-1636462800@www.priorityone.co.nz
SUMMARY:GIB Industry Open Day
DESCRIPTION:
URL:https://www.priorityone.co.nz/event/gib-industry-open-day/
LOCATION:Solomon Group\, 53 Birch Ave\, Judea\, Bay of Plenty\, New Zealand
CATEGORIES:3Ara Rau - Pathways to Work
END:VEVENT
END:VCALENDAR