BEGIN:VCALENDAR
VERSION:2.0
PRODID:-//Priority One - ECPv6.15.20//NONSGML v1.0//EN
CALSCALE:GREGORIAN
METHOD:PUBLISH
X-WR-CALNAME:Priority One
X-ORIGINAL-URL:https://www.priorityone.co.nz
X-WR-CALDESC:Events for Priority One
REFRESH-INTERVAL;VALUE=DURATION:PT1H
X-Robots-Tag:noindex
X-PUBLISHED-TTL:PT1H
BEGIN:VTIMEZONE
TZID:Pacific/Auckland
BEGIN:STANDARD
TZOFFSETFROM:+1300
TZOFFSETTO:+1200
TZNAME:NZST
DTSTART:20230401T140000
END:STANDARD
BEGIN:DAYLIGHT
TZOFFSETFROM:+1200
TZOFFSETTO:+1300
TZNAME:NZDT
DTSTART:20230923T140000
END:DAYLIGHT
BEGIN:STANDARD
TZOFFSETFROM:+1300
TZOFFSETTO:+1200
TZNAME:NZST
DTSTART:20240406T140000
END:STANDARD
BEGIN:DAYLIGHT
TZOFFSETFROM:+1200
TZOFFSETTO:+1300
TZNAME:NZDT
DTSTART:20240928T140000
END:DAYLIGHT
BEGIN:STANDARD
TZOFFSETFROM:+1300
TZOFFSETTO:+1200
TZNAME:NZST
DTSTART:20250405T140000
END:STANDARD
BEGIN:DAYLIGHT
TZOFFSETFROM:+1200
TZOFFSETTO:+1300
TZNAME:NZDT
DTSTART:20250927T140000
END:DAYLIGHT
END:VTIMEZONE
BEGIN:VEVENT
DTSTART;TZID=Pacific/Auckland:20241016T170000
DTEND;TZID=Pacific/Auckland:20241016T183000
DTSTAMP:20260426T001603
CREATED:20240904T005516Z
LAST-MODIFIED:20240904T005516Z
UID:10683-1729098000-1729103400@www.priorityone.co.nz
SUMMARY:YoubeYou Aotearoa Speaker Series
DESCRIPTION:Proudly brought to you by Holland Beckett and YoubeYou – Aotearoa. \nVoices Unplugged: Conversations in Diversity \nFeaturing the incredible… \nNational advocates \nSiouxsie Wiles * Michael Barnett * Nanaia Mahuta * Shaneel Lal * Maretha Smit * Helen Jacobi \nLocal Champions\nBuddy Mikaere * Bevan Rakoia * Leesa Speed * Jan Tinetti * Amanda Lowry * Karen Summerhays \nJoin us for a fun and educational three-part speaker series exploring how diverse\, equitable\, and inclusive societies boost social advantage and economic growth. \nInspired by the ‘Graham Norton’ chat show style\, these events feature engaging conversations with guests sharing their journeys in embracing diversity\, equity\, and inclusion. \nEnjoy heartwarming stories\, entertaining chats\, and live music from talented diversity-focused musicians.
URL:https://www.priorityone.co.nz/event/youbeyou-aotearoa-speaker-series-2/
LOCATION:University of Waikato Tauranga Campus\, 101 Durham Street\, Tauranga\, Bay of Plenty\, 3110\, New Zealand
CATEGORIES:4Member Events
ATTACH;FMTTYPE=image/jpeg:https://www.priorityone.co.nz/wp-content/uploads/1723524392313.jpg
END:VEVENT
BEGIN:VEVENT
DTSTART;VALUE=DATE:20241017
DTEND;VALUE=DATE:20241019
DTSTAMP:20260426T001603
CREATED:20240904T011242Z
LAST-MODIFIED:20240904T011717Z
UID:10697-1729123200-1729295999@www.priorityone.co.nz
SUMMARY:XLabs circular economy workshop
DESCRIPTION:XLabs circular economy workshop\nJoin us and start making the shift from linear – to circular \nCircularity\, Tauranga City Council and Priority One are bringing the award-winning XLabs Circular Economy workshops to the region. \nExpect a transformational day where you will be introduced to the circular economy. Begin to see your business challenges through fresh eyes\, reduce your impact by working alongside others who want to achieve the same outcomes. \nYou’ll be going deep into the impacts\, identifying as a group key projects\, systems and materials that you want to work on then start exploring circular solutions. Finishing the day with key actions to make it a reality. \nThere are two workshops to choose from: \nAll types of businesses – 9-5pm\, 17th of October 2024\nBuilt Environment (C&D) – 9-5pm\, 18th October 2024 \nBoth will be held at this beautiful location –\nMount Manganui Lifesaving Club in the upstairs function room looking out over the beach. \nAttendance is free (thanks to TCC’s Resource Wise program) but spots are limited. \nRegister now before it fills up…and we will confirm back your place with answers to any questions you might have.
URL:https://www.priorityone.co.nz/event/xlabs-circular-economy-workshop-2/
LOCATION:Mount Maunganui Lifeguard Service\, 21 Adams Ave\, Mount Maunganui\, New Zealand
CATEGORIES:1Priority One,4Member Events
ATTACH;FMTTYPE=image/png:https://www.priorityone.co.nz/wp-content/uploads/Screenshot-2024-09-04-131656.png
END:VEVENT
BEGIN:VEVENT
DTSTART;TZID=Pacific/Auckland:20241017T093000
DTEND;TZID=Pacific/Auckland:20241017T113000
DTSTAMP:20260426T001603
CREATED:20240904T010521Z
LAST-MODIFIED:20240904T010521Z
UID:10693-1729157400-1729164600@www.priorityone.co.nz
SUMMARY:Energy Workshop
DESCRIPTION:
URL:https://www.priorityone.co.nz/event/energy-workshop/
LOCATION:Bay of Plenty
CATEGORIES:1Priority One
ATTACH;FMTTYPE=image/png:https://www.priorityone.co.nz/wp-content/uploads/RETA.png
END:VEVENT
BEGIN:VEVENT
DTSTART;TZID=Pacific/Auckland:20241023T140000
DTEND;TZID=Pacific/Auckland:20241023T180000
DTSTAMP:20260426T001603
CREATED:20240904T011837Z
LAST-MODIFIED:20240904T011837Z
UID:10704-1729692000-1729706400@www.priorityone.co.nz
SUMMARY:Energy Strategy Forum
DESCRIPTION:
URL:https://www.priorityone.co.nz/event/energy-strategy-forum/
LOCATION:Bay of Plenty
CATEGORIES:1Priority One
END:VEVENT
BEGIN:VEVENT
DTSTART;TZID=Pacific/Auckland:20241024T070000
DTEND;TZID=Pacific/Auckland:20241024T090000
DTSTAMP:20260426T001603
CREATED:20240716T231306Z
LAST-MODIFIED:20240716T231306Z
UID:10410-1729753200-1729760400@www.priorityone.co.nz
SUMMARY:Instep Young Leaders Business Breakfast – Southern Cross Horticulture
DESCRIPTION:
URL:https://www.priorityone.co.nz/event/instep-young-leaders-business-breakfast-southern-cross-horticulture/
LOCATION:Bay of Plenty
CATEGORIES:1Priority One,2Schools/Careers
ATTACH;FMTTYPE=image/jpeg:https://www.priorityone.co.nz/wp-content/uploads/InStep-Young-Leaders-Primary-logo-Orange-CMYK-003-scaled.jpg
END:VEVENT
BEGIN:VEVENT
DTSTART;TZID=Pacific/Auckland:20241027T183000
DTEND;TZID=Pacific/Auckland:20241027T193000
DTSTAMP:20260426T001603
CREATED:20240926T011851Z
LAST-MODIFIED:20240926T011851Z
UID:10850-1730053800-1730057400@www.priorityone.co.nz
SUMMARY:Mike King's Ride for Hope
DESCRIPTION:Mike King’s Ride for Hope\nTauranga event: 27 October 6.30 pm | Hotel Armitage & Conference Centre \nIn October\, Mike King will be jumping on an UBCO Ltd Electric 2X2 Adventure Bike to start a 5\,000km journey around Aotearoa to raise awareness for mental health and climate change – especially their effects on youth. The Ride for Hope arrives in Tauranga on 27 October. Attend the event for a chance to win a UBCO 2X2 Adventure Bike! \nLearn more and donate: http://iamhope.org.nz/ride
URL:https://www.priorityone.co.nz/event/mike-kings-ride-for-hope/
LOCATION:Hotel Armitage & Conference Centre
CATEGORIES:1Priority One,4Member Events
ATTACH;FMTTYPE=image/png:https://www.priorityone.co.nz/wp-content/uploads/Screenshot-2024-09-26-131512.png
END:VEVENT
BEGIN:VEVENT
DTSTART;TZID=Pacific/Auckland:20241031T160000
DTEND;TZID=Pacific/Auckland:20241031T180000
DTSTAMP:20260426T001603
CREATED:20240716T231505Z
LAST-MODIFIED:20240716T231505Z
UID:10412-1730390400-1730397600@www.priorityone.co.nz
SUMMARY:Instep Young Leaders - Finale
DESCRIPTION:
URL:https://www.priorityone.co.nz/event/instep-young-leaders-finale/
LOCATION:Priority One\, Ground Floor\, 29 Grey Street\, Tauranga\, Bay of Plenty\, 3110\, New Zealand
CATEGORIES:1Priority One,2Schools/Careers
ATTACH;FMTTYPE=image/jpeg:https://www.priorityone.co.nz/wp-content/uploads/InStep-Young-Leaders-Primary-logo-Orange-CMYK-003-scaled.jpg
END:VEVENT
END:VCALENDAR